BEGIN:VCALENDAR
VERSION:2.0
PRODID:-//Finish In Five Program - ECPv6.15.20//NONSGML v1.0//EN
CALSCALE:GREGORIAN
METHOD:PUBLISH
X-WR-CALNAME:Finish In Five Program
X-ORIGINAL-URL:https://finishin5program.com
X-WR-CALDESC:Events for Finish In Five Program
REFRESH-INTERVAL;VALUE=DURATION:PT1H
X-Robots-Tag:noindex
X-PUBLISHED-TTL:PT1H
BEGIN:VTIMEZONE
TZID:America/Los_Angeles
BEGIN:DAYLIGHT
TZOFFSETFROM:-0800
TZOFFSETTO:-0700
TZNAME:PDT
DTSTART:20250309T100000
END:DAYLIGHT
BEGIN:STANDARD
TZOFFSETFROM:-0700
TZOFFSETTO:-0800
TZNAME:PST
DTSTART:20251102T090000
END:STANDARD
BEGIN:DAYLIGHT
TZOFFSETFROM:-0800
TZOFFSETTO:-0700
TZNAME:PDT
DTSTART:20260308T100000
END:DAYLIGHT
BEGIN:STANDARD
TZOFFSETFROM:-0700
TZOFFSETTO:-0800
TZNAME:PST
DTSTART:20261101T090000
END:STANDARD
BEGIN:DAYLIGHT
TZOFFSETFROM:-0800
TZOFFSETTO:-0700
TZNAME:PDT
DTSTART:20270314T100000
END:DAYLIGHT
BEGIN:STANDARD
TZOFFSETFROM:-0700
TZOFFSETTO:-0800
TZNAME:PST
DTSTART:20271107T090000
END:STANDARD
END:VTIMEZONE
BEGIN:VEVENT
DTSTART;TZID=America/Los_Angeles:20260227T080000
DTEND;TZID=America/Los_Angeles:20260227T160000
DTSTAMP:20260421T062436
CREATED:20260212T052548Z
LAST-MODIFIED:20260212T052548Z
UID:790-1772179200-1772208000@finishin5program.com
SUMMARY:PATH Workshop — Practical Gen-AI Tech for Transportation Hub
DESCRIPTION:PATH Workshop — Practical Gen-AI Tech for Transportation Hub\n Friday\, February 27\, 2026\n 8:00 AM – 4:15 PM\n Fresno State Library\, Room UL2134\nRegister now → Registration Link \nYou’ll explore:\n• What AI is and how it’s used in transportation\n• Live demos for safety\, reporting\, research\, funding\, and communication\n• Prompting\, model selection\, and AI safety basics\n• FSTI project demos + live Q&A\n• Build your own transportation-focused chatbot\n• Ethics discussion: bias\, privacy\, and transparency \nNo coding experience required\, just practical tools you can use right away. \nClick Here for more information.
URL:https://finishin5program.com/event/path-workshop-practical-gen-ai-tech-for-transportation-hub/
LOCATION:Fresno State Library\, 5200 N. Barton\, Fresno\, CA\, 93740
END:VEVENT
END:VCALENDAR